BEGIN:VCALENDAR
VERSION:2.0
PRODID:-//juiceboxinteractive//NONSGML Events //EN
X-WR-CALNAME:West Marshall CSD - Events
X-ORIGINAL-URL:https://wmcsd.org/district-calendar/ical/?evt_id=646338
X-WR-CALDESC:West Marshall CSD - Events
CALSCALE:GREGORIAN
BEGIN:VEVENT
UID:evt-646338@wmcsd.org
DTSTART:20260423T213000Z
DTEND:20260424T010000Z
DTSTAMP:20260425T180415Z
SUMMARY:POSTPONED &#8211; Boys Track &#038; Field: 2026 Colo-NESCO JH Coed Track Meet (Junior High)
DESCRIPTION:Junior High Boys Track &#38; Field &#8211; 2026 Colo-NESCO JH Coed Track Meet
END:VEVENT
END:VCALENDAR